BEGIN:VCALENDAR
VERSION:2.0
PRODID:-//hackideiaselas.com.br - ECPv6.5.1//NONSGML v1.0//EN
CALSCALE:GREGORIAN
METHOD:PUBLISH
X-WR-CALNAME:hackideiaselas.com.br
X-ORIGINAL-URL:https://hackideiaselas.com.br
X-WR-CALDESC:Eventos para hackideiaselas.com.br
REFRESH-INTERVAL;VALUE=DURATION:PT1H
X-Robots-Tag:noindex
X-PUBLISHED-TTL:PT1H
BEGIN:VTIMEZONE
TZID:America/Sao_Paulo
BEGIN:STANDARD
TZOFFSETFROM:-0300
TZOFFSETTO:-0300
TZNAME:-03
DTSTART:20240101T000000
END:STANDARD
END:VTIMEZONE
BEGIN:VEVENT
DTSTART;TZID=America/Sao_Paulo:20240705T150000
DTEND;TZID=America/Sao_Paulo:20240705T173000
DTSTAMP:20260420T123201
CREATED:20240613T113936Z
LAST-MODIFIED:20240816T151029Z
UID:242-1720191600-1720200600@hackideiaselas.com.br
SUMMARY:Roda de Conversa com mulheres
DESCRIPTION:1ª Roda de Conversa: Empreendedorismo Feminino e a Luta Contra o Feminicídio no DF\nVocê está convidada para participar do Hackathon (Maratona de Ideias) para propor soluções para os desafios de minimizar a violência contra a mulher e o feminício no DF.  \nPara ajudar a entender melhor o desafio\, realizamos um evento especial dedicado ao fortalecimento do empreendedorismo feminino e à discussão de soluções inovadoras para combater o feminicídio no Distrito Federal.  \nCompareceram ao evento\, lideranças e especialistas.  \nConfira a galeria de imagens (em andamento) \nhttps://youtu.be/trW0WPlqXrs		 \n\n										\n																										 \n\n\nMarcia Zarur é jornalista\, formada pela UnB\, com cursos de TV e Propaganda nos Estados Unidos e MBA em Marketing pela FGV. \nÉ presidente da Fundação Athos Bulcão. \nNa Rádio Nova Brasil FM\, é a responsável pela coluna Nossa Cidade. É a idealizadora e entrevistadora do podcast Cultura ao Quadrado\, patrocinado pelo Sesc. \nCriadora e apresentadora do programa Distrito Cultural\, veiculado em 5 temporadas na Globo Brasília e atualmente disponível no Globoplay. \nAtuou como repórter na TV Globo durante 10 anos\, foi âncora do DFTV e da Globonews\, além de colunista na Rádio CBN por 4 anos. \nÉ roteirista e sócia-fundadora e escritora do Coletivo Maria Cobogó\, pelo qual tem 4 livros publicados. Faz parte da câmara de mulheres empreendedoras da Fecomercio . \n\n\n			\n						 \nO que fizemos no evento: \n\nDiálogos Inspiradores: Ouça histórias de mulheres que estão fazendo a diferença.\nDiscussão Sobre o Feminicídio: Entenda as causas\, os desafios e as medidas que estão sendo tomadas para enfrentar essa grave questão.\nNetworking: Conecte-se com outras mulheres empreendedoras\, especialistas\, e líderes comunitárias.\n\nPor que participar do Hackathon e da Incubação de Negócios: \n\nAutonomia e Emancipação: Aprenda com as experiências de outras mulheres e descubra novas oportunidades de geração de emprego e renda.\nImpacto Social: Contribua para a criação de estratégias e soluções que podem salvar vidas.\nComunidade: Faça parte de uma rede de apoio mútuo que promove o desenvolvimento sustentável e a segurança das mulheres.\n\nVamos juntas construir um futuro mais seguro e próspero para todas as mulheres. Esperamos por você! \n														\n															\n														\n															\n														\n															\n														\n															\n														\n															\n													\n																										 \nFique atendo para a chamada para o Hackathon \nPara mais informações\, entre em contato através do e-mail atendimento@hackideiaelas.com.br 
URL:https://hackideiaselas.com.br/eventos/1rodadeconversa/
LOCATION:JK Shopping\, St. M-Norte QNM 34\, Taguatinga\, DF\, 72145-450\, Brasil
ATTACH;FMTTYPE=image/webp:https://hackideiaselas.com.br/wp-content/uploads/2024/06/marcia-zarur-copy.webp
END:VEVENT
END:VCALENDAR