BEGIN:VCALENDAR
VERSION:2.0
PRODID:-//hackideiaselas.com.br - ECPv6.5.1//NONSGML v1.0//EN
CALSCALE:GREGORIAN
METHOD:PUBLISH
X-ORIGINAL-URL:https://hackideiaselas.com.br
X-WR-CALDESC:Eventos para hackideiaselas.com.br
REFRESH-INTERVAL;VALUE=DURATION:PT1H
X-Robots-Tag:noindex
X-PUBLISHED-TTL:PT1H
BEGIN:VTIMEZONE
TZID:America/Sao_Paulo
BEGIN:STANDARD
TZOFFSETFROM:-0300
TZOFFSETTO:-0300
TZNAME:-03
DTSTART:20240101T000000
END:STANDARD
END:VTIMEZONE
BEGIN:VEVENT
DTSTART;TZID=America/Sao_Paulo:20240930T193000
DTEND;TZID=America/Sao_Paulo:20240930T220000
DTSTAMP:20260421T015851
CREATED:20241001T200120Z
LAST-MODIFIED:20241001T203446Z
UID:1600-1727724600-1727733600@hackideiaselas.com.br
SUMMARY:1º Meetup Hack Ideias Elas
DESCRIPTION:Este é o momento de brilhar e levar suas ideias ao topo! No 1º Meetup Pitch Deck do Hack Ideias Elas\, você terá todo o suporte para aprimorar sua apresentação e conquistar o público. Inscreva-se agora e esteja pronta para transformar sua ideia em um verdadeiro sucesso. Não deixe essa oportunidade passar – seu projeto merece ser ouvido e apoiado! \nChegou o dia ! Hoje teremos nosso pitch e também um momento de descontração. \nSeguem algumas informações importantes sobre a dinâmica de amanhã 🚀 \nData: 30/09\nHorário: 19h30\nLocal: Porks Guará\nEndereço: QE 40\, Rua 03\, Lote 1 \nLink do evento: https://calendar.app.google/uAAd5VnnejTK7L9a6 \nO que vamos ter?\n– 1 chopp\, refri\, suco OU água por participante\n– entradinhas compartilhadas\n– pitch de 3min + 2min de feedback \nQuem pode ir?\n– todos que forem apresentar o pitch e suas equipes (participantes)\n– convidados externos dos participantes (não terão cortesia de bebida)\n– banca de jurados \nEsperamos todos vocês para essa noite especial
URL:https://hackideiaselas.com.br/eventos/1o-meetup-hack-ideias-elas/
ORGANIZER;CN="Hack Ideias Elas":MAILTO:falecom@espacomultiplicidade.com.br
END:VEVENT
BEGIN:VEVENT
DTSTART;TZID=America/Sao_Paulo:20241021T193000
DTEND;TZID=America/Sao_Paulo:20241021T210000
DTSTAMP:20260421T015851
CREATED:20241010T140916Z
LAST-MODIFIED:20241010T155155Z
UID:1633-1729539000-1729544400@hackideiaselas.com.br
SUMMARY:MVP e Experimentação
DESCRIPTION:O desenvolvimento de produtos está cada vez mais ágil\, e as metodologias tradicionais de desenvolvimento estão sendo substituídas por abordagens que priorizam a eficiência e a entrega rápida de valor. Nesse contexto\, dois conceitos se destacam: o MVP (Minimum Viable Product) e a experimentação. Esses termos são fundamentais para empresas que desejam testar ideias\, minimizar riscos e alcançar resultados mais rápidos e assertivos no mercado. \nPara quem se destina:  \nAlunos da Incubadora Hack Ideias Elas via Google Meet
URL:https://hackideiaselas.com.br/eventos/mvp-e-experimentacao/
CATEGORIES:Aula Online
ATTACH;FMTTYPE=image/webp:https://hackideiaselas.com.br/wp-content/uploads/2024/10/mvp-para-pequenos-negocios.webp
END:VEVENT
BEGIN:VEVENT
DTSTART;TZID=America/Sao_Paulo:20241104T193000
DTEND;TZID=America/Sao_Paulo:20241104T210000
DTSTAMP:20260421T015851
CREATED:20241010T161027Z
LAST-MODIFIED:20241010T161605Z
UID:1644-1730748600-1730754000@hackideiaselas.com.br
SUMMARY:Modelo de Negócio com Canvas
DESCRIPTION:O desenvolvimento de produtos está cada vez mais ágil\, e as metodologias tradicionais de desenvolvimento estão sendo substituídas por abordagens que priorizam a eficiência e a entrega rápida de valor. Nesse contexto\, dois conceitos se destacam: o MVP (Minimum Viable Product) e a experimentação. Esses termos são fundamentais para empresas que desejam testar ideias\, minimizar riscos e alcançar resultados mais rápidos e assertivos no mercado.\nPara quem se destina: \nAlunos da Incubadora Hack Ideias Elas via Google Meet
URL:https://hackideiaselas.com.br/eventos/modelo-de-negocio-com-canvas/
CATEGORIES:Aula Online
ATTACH;FMTTYPE=image/webp:https://hackideiaselas.com.br/wp-content/uploads/2024/10/business-model-canvas-para-mulheres.webp
END:VEVENT
BEGIN:VEVENT
DTSTART;TZID=America/Sao_Paulo:20241104T193000
DTEND;TZID=America/Sao_Paulo:20241104T210000
DTSTAMP:20260421T015851
CREATED:20241104T220007Z
LAST-MODIFIED:20241010T161403Z
UID:1638-1730748600-1730754000@hackideiaselas.com.br
SUMMARY:Modelo de Negócios com Canvas
DESCRIPTION:O Modelo de Negócios Canvas é uma ferramenta poderosa para empreendedores e empresas que buscam uma forma visual de planejar e desenvolver seus negócios. Com ele\, é possível identificar pontos fortes\, fraquezas e oportunidades de maneira prática e acessível. \n \n 
URL:https://hackideiaselas.com.br/eventos/modelo-de-negocios-com-canvas/
CATEGORIES:Aula Online
ATTACH;FMTTYPE=image/webp:https://hackideiaselas.com.br/wp-content/uploads/2024/10/business-model-canvas-para-mulheres.webp
END:VEVENT
END:VCALENDAR